BEGIN:VCALENDAR
VERSION:2.0
PRODID:-//GrowEnid | Enid Regional Development Alliance - ECPv6.15.17.1//NONSGML v1.0//EN
CALSCALE:GREGORIAN
METHOD:PUBLISH
X-ORIGINAL-URL:https://growenid.com
X-WR-CALDESC:Events for GrowEnid | Enid Regional Development Alliance
REFRESH-INTERVAL;VALUE=DURATION:PT1H
X-Robots-Tag:noindex
X-PUBLISHED-TTL:PT1H
BEGIN:VTIMEZONE
TZID:America/Chicago
BEGIN:DAYLIGHT
TZOFFSETFROM:-0600
TZOFFSETTO:-0500
TZNAME:CDT
DTSTART:20250309T080000
END:DAYLIGHT
BEGIN:STANDARD
TZOFFSETFROM:-0500
TZOFFSETTO:-0600
TZNAME:CST
DTSTART:20251102T070000
END:STANDARD
BEGIN:DAYLIGHT
TZOFFSETFROM:-0600
TZOFFSETTO:-0500
TZNAME:CDT
DTSTART:20260308T080000
END:DAYLIGHT
BEGIN:STANDARD
TZOFFSETFROM:-0500
TZOFFSETTO:-0600
TZNAME:CST
DTSTART:20261101T070000
END:STANDARD
BEGIN:DAYLIGHT
TZOFFSETFROM:-0600
TZOFFSETTO:-0500
TZNAME:CDT
DTSTART:20270314T080000
END:DAYLIGHT
BEGIN:STANDARD
TZOFFSETFROM:-0500
TZOFFSETTO:-0600
TZNAME:CST
DTSTART:20271107T070000
END:STANDARD
END:VTIMEZONE
BEGIN:VEVENT
DTSTART;TZID=America/Chicago:20261104T113000
DTEND;TZID=America/Chicago:20261104T130000
DTSTAMP:20260425T071004
CREATED:20260205T222122Z
LAST-MODIFIED:20260205T223547Z
UID:6772-1793791800-1793797200@growenid.com
SUMMARY:Enid Young Professionals Lunch & Learn
DESCRIPTION:Level up your lunch break! Join fellow young professionals from across Enid to connect\, learn something new\, and spark ideas that move your career forward. Great food\, real conversations\, and practical takeaways you can use right away. More details coming soon—stay tuned!
URL:https://growenid.com/event/enid-young-professionals-lunch-and-learn-2/
LOCATION:Autry Technology Center\, 1201 W. Willow Ave\, Enid\, OK\, 73703\, United States
ATTACH;FMTTYPE=image/png:https://growenid.com/wp-content/uploads/2026/02/Events-Calendar-Images-1.png
ORGANIZER;CN="Enid Young Professionals":MAILTO:eyp@growenid.com
END:VEVENT
BEGIN:VEVENT
DTSTART;TZID=America/Chicago:20261112T113000
DTEND;TZID=America/Chicago:20261112T130000
DTSTAMP:20260425T071004
CREATED:20260205T213424Z
LAST-MODIFIED:20260205T213424Z
UID:6759-1794483000-1794488400@growenid.com
SUMMARY:ERDA November Quarterly Luncheon
DESCRIPTION:Something good is on the table for our business community…more information coming soon!
URL:https://growenid.com/event/erda-november-quarterly-luncheon/
LOCATION:Stride Bank Center\, 301 S. Independence\, Enid\, OK\, 73701\, United States
ATTACH;FMTTYPE=image/png:https://growenid.com/wp-content/uploads/2026/02/1.png
ORGANIZER;CN="Enid Regional Development Alliance":MAILTO:info@growenid.com
END:VEVENT
END:VCALENDAR